BEGIN:VCALENDAR
VERSION:2.0
PRODID:-//jEvents 1.5 for Joomla//EN
CALSCALE:GREGORIAN
METHOD:PUBLISH
BEGIN:VEVENT

UID:aef730dd262db5f5fb82c7f7e555417d
CATEGORIES:Default
SUMMARY:First Friday
LOCATION:Gazebo Park, Mt. Vernon
DESCRIPTION;ENCODING=QUOTED-PRINTABLE:<p>First Friday in Mt. Vernon - Gazebo Park</p><p>Perform at 6:45 pm</p>

DTSTAMP:20260424T005125Z
DTSTART:20150605T224500Z
DTEND:20150605T231500Z
SEQUENCE:0
TRANSP:OPAQUE
END:VEVENT
END:VCALENDAR