BEGIN:VCALENDAR
VERSION:2.0
PRODID:-//jEvents 1.5 for Joomla//EN
CALSCALE:GREGORIAN
METHOD:PUBLISH
BEGIN:VEVENT

UID:deceb0a525fac4b5261f6321c37b0d97
CATEGORIES:Default
SUMMARY:Coaching
LOCATION:Central Christian Church
DESCRIPTION;ENCODING=QUOTED-PRINTABLE:<p>COACHING with David Calland</p>
CONTACT:(740) 720-3221
X-EXTRAINFO:Vocal coaching on our competition songs
DTSTAMP:20260422T112019Z
DTSTART:20170314T110000Z
DTEND:20170314T140000Z
SEQUENCE:0
TRANSP:OPAQUE
END:VEVENT
END:VCALENDAR