BEGIN:VCALENDAR
VERSION:2.0
PRODID:-//jEvents 1.5 for Joomla//EN
CALSCALE:GREGORIAN
METHOD:PUBLISH
BEGIN:VEVENT

UID:www5646b32f7012c6.78571066
CATEGORIES:Default
SUMMARY:Caroling
LOCATION:Country Club at 6:00; Country Court at 6:40
DESCRIPTION;ENCODING=QUOTED-PRINTABLE:\n\nCaroling for the residents\n

DTSTAMP:20260423T102442Z
DTSTART:20151129
DTEND:20151129
SEQUENCE:0
TRANSP:OPAQUE
END:VEVENT
END:VCALENDAR