BEGIN:VCALENDAR
VERSION:2.0
PRODID:-//jEvents 1.5 for Joomla//EN
CALSCALE:GREGORIAN
METHOD:PUBLISH
BEGIN:VEVENT

UID:73248d6f0aa7ca0548917e41bd8d1bc7
CATEGORIES:Default
SUMMARY:Rehearsal
LOCATION:Central Christian Church
DESCRIPTION;ENCODING=QUOTED-PRINTABLE:
CONTACT:(740) 720-3221

DTSTAMP:20260422T111908Z
DTSTART:20170307T120000Z
DTEND:20170307T143000Z
SEQUENCE:0
TRANSP:OPAQUE
END:VEVENT
END:VCALENDAR