BEGIN:VCALENDAR
VERSION:2.0
PRODID:-//jEvents 1.5 for Joomla//EN
CALSCALE:GREGORIAN
METHOD:PUBLISH
BEGIN:VEVENT

UID:0c1fbc73659289925fee884b295ca7a9
CATEGORIES:Default
SUMMARY:Rehearsal
LOCATION:Central Christian Church
DESCRIPTION;ENCODING=QUOTED-PRINTABLE:
CONTACT:(740) 720-3221

DTSTAMP:20260422T132020Z
DTSTART:20170321T110000Z
DTEND:20170321T133000Z
SEQUENCE:0
TRANSP:OPAQUE
END:VEVENT
END:VCALENDAR