BEGIN:VCALENDAR
VERSION:2.0
PRODID:-//jEvents 1.5 for Joomla//EN
CALSCALE:GREGORIAN
METHOD:PUBLISH
BEGIN:VEVENT

UID:0563b120e273d60a0b8d9e6fde3156cf
CATEGORIES:Default
SUMMARY:Rehearsal
LOCATION:Central Christian Church
DESCRIPTION;ENCODING=QUOTED-PRINTABLE:
CONTACT:(740) 720-3221

DTSTAMP:20260422T093229Z
DTSTART:20170411T110000Z
DTEND:20170411T133000Z
SEQUENCE:0
TRANSP:OPAQUE
END:VEVENT
END:VCALENDAR