BEGIN:VCALENDAR
VERSION:2.0
PRODID:-//jEvents 1.5 for Joomla//EN
CALSCALE:GREGORIAN
METHOD:PUBLISH
BEGIN:VEVENT

UID:f40366b0d835aa87e5e79a88d84f5507
CATEGORIES:Default
SUMMARY:Competition
LOCATION:
DESCRIPTION;ENCODING=QUOTED-PRINTABLE:

DTSTAMP:20260422T093234Z
DTSTART:20170427T120000Z
DTEND:20170428T035959Z
SEQUENCE:0
RRULE:FREQ=DAILY;COUNT=4;INTERVAL=1
TRANSP:OPAQUE
END:VEVENT
END:VCALENDAR