BEGIN:VCALENDAR
VERSION:2.0
PRODID:-//jEvents 1.5 for Joomla//EN
CALSCALE:GREGORIAN
METHOD:PUBLISH
BEGIN:VEVENT

UID:79a6602aa315484b933e1c19b8e95a5e
CATEGORIES:Default
SUMMARY:Board Meeting
LOCATION:Central Christian Church
DESCRIPTION;ENCODING=QUOTED-PRINTABLE:
CONTACT:(740) 720-3221

DTSTAMP:20260422T111726Z
DTSTART:20170321T094500Z
DTEND:20170321T110000Z
SEQUENCE:0
TRANSP:OPAQUE
END:VEVENT
END:VCALENDAR