BEGIN:VCALENDAR
VERSION:2.0
PRODID:-//jEvents 1.5 for Joomla//EN
CALSCALE:GREGORIAN
METHOD:PUBLISH
BEGIN:VEVENT

UID:0c9248b21b2f55d81bda72cc30995809
CATEGORIES:Default
SUMMARY:Annual Meeting
LOCATION:
DESCRIPTION;ENCODING=QUOTED-PRINTABLE:

DTSTAMP:20260422T071358Z
DTSTART:20170328
DTEND:20170328
SEQUENCE:0
TRANSP:OPAQUE
END:VEVENT
END:VCALENDAR