BEGIN:VCALENDAR
VERSION:2.0
PRODID:-//jEvents 1.5 for Joomla//EN
CALSCALE:GREGORIAN
METHOD:PUBLISH
BEGIN:VEVENT

UID:ab7d20742ea652fbd7ef77c8d70c1a94
CATEGORIES:Default
SUMMARY:Ohio Harmony Explosion
LOCATION:Mt. Vernon Nazarene Univ.
DESCRIPTION;ENCODING=QUOTED-PRINTABLE:\n\nLearn to sing harmony - for youth\n

DTSTAMP:20260422T020251Z
DTSTART:20170628
DTEND:20170628
SEQUENCE:0
RRULE:FREQ=DAILY;COUNT=4;INTERVAL=1
TRANSP:OPAQUE
END:VEVENT
END:VCALENDAR