BEGIN:VCALENDAR
VERSION:2.0
PRODID:-//jEvents 1.5 for Joomla//EN
CALSCALE:GREGORIAN
METHOD:PUBLISH
BEGIN:VEVENT

UID:06c25fbb4a18f586b6e25522fe3f4231
CATEGORIES:Default
SUMMARY:Harmony Weekend
LOCATION:Holiday Inn Toledo South - French Quarter
DESCRIPTION;ENCODING=QUOTED-PRINTABLE:<p>with Mary Rhea</p>

DTSTAMP:20260421T210534Z
DTSTART:20170915
DTEND:20170915
SEQUENCE:0
RRULE:FREQ=DAILY;COUNT=3;INTERVAL=1
TRANSP:OPAQUE
END:VEVENT
END:VCALENDAR