BEGIN:VCALENDAR
VERSION:2.0
PRODID:-//jEvents 1.5 for Joomla//EN
CALSCALE:GREGORIAN
METHOD:PUBLISH
BEGIN:VEVENT

UID:d205a3afe31959d8cde77262e628d78e
CATEGORIES:Default
SUMMARY:Annual Show
LOCATION:Memorial Theater
DESCRIPTION;ENCODING=QUOTED-PRINTABLE:\n\nOur annual show "Turn Your Radio On" promises to be LOADS of fun!!!\n
CONTACT:(740) 720-3221

DTSTAMP:20260421T233957Z
DTSTART:20171001T070000Z
DTEND:20171002T035959Z
SEQUENCE:0
TRANSP:OPAQUE
END:VEVENT
END:VCALENDAR