BEGIN:VCALENDAR
VERSION:2.0
PRODID:-//jEvents 1.5 for Joomla//EN
CALSCALE:GREGORIAN
METHOD:PUBLISH
BEGIN:VEVENT

UID:0f9c006e6190813593f02a4e6e14d536
CATEGORIES:Default
SUMMARY:Installation - NO REHEARSAL
LOCATION:Mullett's
DESCRIPTION;ENCODING=QUOTED-PRINTABLE:

DTSTAMP:20260422T075045Z
DTSTART:20170509T100000Z
DTEND:20170510T035959Z
SEQUENCE:0
TRANSP:OPAQUE
END:VEVENT
END:VCALENDAR