BEGIN:VCALENDAR
VERSION:2.0
PRODID:-//jEvents 1.5 for Joomla//EN
CALSCALE:GREGORIAN
METHOD:PUBLISH
BEGIN:VEVENT

UID:d99124542285d4f60d11dd550fe26cde
CATEGORIES:Default
SUMMARY:Guest Night
LOCATION:
DESCRIPTION;ENCODING=QUOTED-PRINTABLE:
X-EXTRAINFO:We welcome women and girls who love to sing!
DTSTAMP:20260422T075256Z
DTSTART:20170523T110000Z
DTEND:20170523T140000Z
SEQUENCE:0
TRANSP:OPAQUE
END:VEVENT
END:VCALENDAR