BEGIN:VCALENDAR
VERSION:2.0
PRODID:-//jEvents 1.5 for Joomla//EN
CALSCALE:GREGORIAN
METHOD:PUBLISH
BEGIN:VEVENT

UID:a8fa27702170bc155934fea1335eeb6a
CATEGORIES:Default
SUMMARY:Information Table
LOCATION:Dan Emmett Festival
DESCRIPTION;ENCODING=QUOTED-PRINTABLE:

DTSTAMP:20260421T225333Z
DTSTART:20170810
DTEND:20170812
SEQUENCE:0
TRANSP:OPAQUE
END:VEVENT
END:VCALENDAR