BEGIN:VCALENDAR
VERSION:2.0
PRODID:-//jEvents 1.5 for Joomla//EN
CALSCALE:GREGORIAN
METHOD:PUBLISH
BEGIN:VEVENT

UID:1fa11d4b31ce6398837f282b17a0dd50
CATEGORIES:Default
SUMMARY:Dress Rehearsal
LOCATION:Memorial Theater
DESCRIPTION;ENCODING=QUOTED-PRINTABLE:

DTSTAMP:20260422T012446Z
DTSTART:20170928T110000Z
DTEND:20170929T035959Z
SEQUENCE:0
TRANSP:OPAQUE
END:VEVENT
END:VCALENDAR