BEGIN:VCALENDAR
VERSION:2.0
PRODID:-//jEvents 1.5 for Joomla//EN
CALSCALE:GREGORIAN
METHOD:PUBLISH
BEGIN:VEVENT

UID:a72db44f51342567d6bd08760dfac0a6
CATEGORIES:Default
SUMMARY:Show Rehearsal
LOCATION:Memorial Theater
DESCRIPTION;ENCODING=QUOTED-PRINTABLE:

DTSTAMP:20260422T010508Z
DTSTART:20170926T110000Z
DTEND:20170927T035959Z
SEQUENCE:0
TRANSP:OPAQUE
END:VEVENT
END:VCALENDAR