BEGIN:VCALENDAR
VERSION:2.0
PRODID:-//jEvents 1.5 for Joomla//EN
CALSCALE:GREGORIAN
METHOD:PUBLISH
BEGIN:VEVENT

UID:fad15733d85efe8cd0ef08dbc11beed3
CATEGORIES:Default
SUMMARY:Rehearsal
LOCATION:Central Christian Church
DESCRIPTION;ENCODING=QUOTED-PRINTABLE:

DTSTAMP:20260421T231801Z
DTSTART:20171003T110000Z
DTEND:20171004T035959Z
SEQUENCE:0
RRULE:FREQ=WEEKLY;UNTIL=20171212T235959Z;INTERVAL=1;BYDAY=TU
TRANSP:OPAQUE
END:VEVENT
END:VCALENDAR