BEGIN:VCALENDAR
VERSION:2.0
PRODID:-//jEvents 1.5 for Joomla//EN
CALSCALE:GREGORIAN
METHOD:PUBLISH
BEGIN:VEVENT

UID:e3b18ba58a181f9d9b34b38ea69142b2
CATEGORIES:Default
SUMMARY:Rehearsal
LOCATION:Central Christian Church
DESCRIPTION;ENCODING=QUOTED-PRINTABLE:
CONTACT:(740) 720-3221

DTSTAMP:20260422T111303Z
DTSTART:20170328T110000Z
DTEND:20170328T133000Z
SEQUENCE:0
TRANSP:OPAQUE
END:VEVENT
END:VCALENDAR