BEGIN:VCALENDAR
VERSION:2.0
PRODID:-//jEvents 1.5 for Joomla//EN
CALSCALE:GREGORIAN
METHOD:PUBLISH
BEGIN:VEVENT

UID:fad15733d85efe8cd0ef08dbc11beed3
CATEGORIES:Default
SUMMARY:Rehearsal
LOCATION:Central Christian Church
DESCRIPTION;ENCODING=QUOTED-PRINTABLE:

DTSTAMP:20260421T213336Z
DTSTART:20171107T120000Z
DTEND:20171108T045959Z
SEQUENCE:0
TRANSP:OPAQUE
END:VEVENT
END:VCALENDAR